BEGIN:VCALENDAR
VERSION:2.0
PRODID:-//CERN//INDICO//EN
BEGIN:VEVENT
SUMMARY:TSVV-G Meeting (Falcon/EQUIPE\, DTT/DAS)
DTSTART:20260518T110000Z
DTEND:20260518T123000Z
DTSTAMP:20260421T065300Z
UID:indico-event-3934@indico.euro-fusion.org
DESCRIPTION:https://indico.euro-fusion.org/event/3934/
URL:https://indico.euro-fusion.org/event/3934/
END:VEVENT
END:VCALENDAR
