BEGIN:VCALENDAR
VERSION:2.0
PRODID:-//CERN//INDICO//EN
BEGIN:VEVENT
SUMMARY:Joint TSVV-C (A/B/K) session: The neutral model in the JOREK code 
 (G. Huijsmans)
DTSTART:20260414T080000Z
DTEND:20260414T090000Z
DTSTAMP:20260421T023900Z
UID:indico-event-3981@indico.euro-fusion.org
DESCRIPTION:https://indico.euro-fusion.org/event/3981/
LOCATION:virtual
URL:https://indico.euro-fusion.org/event/3981/
END:VEVENT
END:VCALENDAR
