BEGIN:VCALENDAR
VERSION:2.0
PRODID:-//CERN//INDICO//EN
BEGIN:VEVENT
SUMMARY:SiCO meeting   2026-04-01
DTSTART:20260401T120000Z
DTEND:20260401T140500Z
DTSTAMP:20260423T120800Z
UID:indico-event-3982@indico.euro-fusion.org
DESCRIPTION:Speakers: Pär Strand (VR)\n\nhttps://chalmers.zoom.us/j/69573
 896543Passcode: FAIR\n \n\nhttps://indico.euro-fusion.org/event/3982/
URL:https://indico.euro-fusion.org/event/3982/
END:VEVENT
END:VCALENDAR
