BEGIN:VCALENDAR
VERSION:2.0
PRODID:-//CERN//INDICO//EN
BEGIN:VEVENT
SUMMARY:SiCO meeting   2026-04-08
DTSTART:20260408T120000Z
DTEND:20260408T140500Z
DTSTAMP:20260423T120700Z
UID:indico-event-3986@indico.euro-fusion.org
DESCRIPTION:Speakers: Pär Strand (VR)\n\nhttps://chalmers.zoom.us/j/69573
 896543Passcode: FAIR\n \n\nhttps://indico.euro-fusion.org/event/3986/
URL:https://indico.euro-fusion.org/event/3986/
END:VEVENT
END:VCALENDAR
