BEGIN:VCALENDAR
VERSION:2.0
PRODID:-//CERN//INDICO//EN
BEGIN:VEVENT
SUMMARY:TSVV-C Annual Meeting 2026
DTSTART:20260601T110000Z
DTEND:20260603T140000Z
DTSTAMP:20260421T065300Z
UID:indico-event-3997@indico.euro-fusion.org
DESCRIPTION:https://indico.euro-fusion.org/event/3997/
LOCATION:L5-315\, Zoom (IPP Garching)
URL:https://indico.euro-fusion.org/event/3997/
END:VEVENT
END:VCALENDAR
