BEGIN:VCALENDAR
VERSION:2.0
PRODID:-//CERN//INDICO//EN
BEGIN:VEVENT
SUMMARY:SiCO meeting   2026-04-22
DTSTART:20260422T120000Z
DTEND:20260422T140500Z
DTSTAMP:20260423T120900Z
UID:indico-event-4005@indico.euro-fusion.org
DESCRIPTION:Speakers: Pär Strand (VR)\n\nhttps://chalmers.zoom.us/j/69573
 896543Passcode: FAIR\n \n\nhttps://indico.euro-fusion.org/event/4005/
URL:https://indico.euro-fusion.org/event/4005/
END:VEVENT
END:VCALENDAR
